BEGIN:VCALENDAR
VERSION:2.0
PRODID:-// - ECPv4.6.11.1//NONSGML v1.0//EN
CALSCALE:GREGORIAN
METHOD:PUBLISH
X-ORIGINAL-URL:http://northcotebaptist.net.au
X-WR-CALDESC:Events for 
BEGIN:VEVENT
DTSTART;TZID=Australia/Melbourne:20180128T113000
DTEND;TZID=Australia/Melbourne:20180128T120000
DTSTAMP:20180225T071526
CREATED:20180104T005658Z
LAST-MODIFIED:20180104T005658Z
UID:1484-1517139000-1517140800@northcotebaptist.net.au
SUMMARY:教会恳谈会
DESCRIPTION:
URL:http://northcotebaptist.net.au/event/%e6%95%99%e4%bc%9a%e6%81%b3%e8%b0%88%e4%bc%9a/
END:VEVENT
BEGIN:VEVENT
DTSTART;TZID=Australia/Melbourne:20180131T100000
DTEND;TZID=Australia/Melbourne:20180131T120000
DTSTAMP:20180225T071526
CREATED:20180104T005825Z
LAST-MODIFIED:20180116T023243Z
UID:1486-1517392800-1517400000@northcotebaptist.net.au
SUMMARY:Mainly Music
DESCRIPTION:orientation \n
URL:http://northcotebaptist.net.au/event/mainly-music/
END:VEVENT
BEGIN:VEVENT
DTSTART;TZID=Australia/Melbourne:20180202T193000
DTEND;TZID=Australia/Melbourne:20180202T210000
DTSTAMP:20180225T071526
CREATED:20180119T004400Z
LAST-MODIFIED:20180119T011900Z
UID:1591-1517599800-1517605200@northcotebaptist.net.au
SUMMARY:青少年团契
DESCRIPTION:欢迎青年朋友与少年朋友们参加！\n  \nGames+Study \n
URL:http://northcotebaptist.net.au/event/%e9%9d%92%e5%b0%91%e5%b9%b4%e5%9b%a2%e5%a5%91/
END:VEVENT
BEGIN:VEVENT
DTSTART;TZID=Australia/Melbourne:20180204T123000
DTEND;TZID=Australia/Melbourne:20180204T140000
DTSTAMP:20180225T071526
CREATED:20180104T010237Z
LAST-MODIFIED:20180104T010237Z
UID:1488-1517747400-1517752800@northcotebaptist.net.au
SUMMARY:年轻父母团契
DESCRIPTION:
URL:http://northcotebaptist.net.au/event/%e5%b9%b4%e8%bd%bb%e7%88%b6%e6%af%8d%e5%9b%a2%e5%a5%91-3/
END:VEVENT
BEGIN:VEVENT
DTSTART;TZID=Australia/Melbourne:20180204T123000
DTEND;TZID=Australia/Melbourne:20180204T140000
DTSTAMP:20180225T071526
CREATED:20180104T010333Z
LAST-MODIFIED:20180104T010333Z
UID:1490-1517747400-1517752800@northcotebaptist.net.au
SUMMARY:麦子青年团契
DESCRIPTION:聚餐查经 \n
URL:http://northcotebaptist.net.au/event/%e9%ba%a6%e5%ad%90%e9%9d%92%e5%b9%b4%e5%9b%a2%e5%a5%91-4/
END:VEVENT
BEGIN:VEVENT
DTSTART;TZID=Australia/Melbourne:20180206T110000
DTEND;TZID=Australia/Melbourne:20180206T123000
DTSTAMP:20180225T071526
CREATED:20180104T010420Z
LAST-MODIFIED:20180104T010420Z
UID:1492-1517914800-1517920200@northcotebaptist.net.au
SUMMARY:姐妹团契
DESCRIPTION:
URL:http://northcotebaptist.net.au/event/%e5%a7%90%e5%a6%b9%e5%9b%a2%e5%a5%91-3/
END:VEVENT
BEGIN:VEVENT
DTSTART;TZID=Australia/Melbourne:20180207T103000
DTEND;TZID=Australia/Melbourne:20180207T120000
DTSTAMP:20180225T071526
CREATED:20180104T010959Z
LAST-MODIFIED:20180105T003423Z
UID:1494-1517999400-1518004800@northcotebaptist.net.au
SUMMARY:Mainly Music
DESCRIPTION:
URL:http://northcotebaptist.net.au/event/mainly-music-2/
END:VEVENT
BEGIN:VEVENT
DTSTART;TZID=Australia/Melbourne:20180208T100000
DTEND;TZID=Australia/Melbourne:20180208T140000
DTSTAMP:20180225T071526
CREATED:20180104T011114Z
LAST-MODIFIED:20180104T012228Z
UID:1496-1518084000-1518098400@northcotebaptist.net.au
SUMMARY:长青团契活动1
DESCRIPTION:
URL:http://northcotebaptist.net.au/event/%e9%95%bf%e9%9d%92%e5%9b%a2%e5%a5%91%e6%b4%bb%e5%8a%a81/
END:VEVENT
BEGIN:VEVENT
DTSTART;TZID=Australia/Melbourne:20180209T193000
DTEND;TZID=Australia/Melbourne:20180209T210000
DTSTAMP:20180225T071526
CREATED:20180119T012012Z
LAST-MODIFIED:20180119T012205Z
UID:1595-1518204600-1518210000@northcotebaptist.net.au
SUMMARY:青少年团契
DESCRIPTION:欢迎青年朋友与少年朋友们参加！\n  \nGames+Study \n
URL:http://northcotebaptist.net.au/event/%e9%9d%92%e5%b0%91%e5%b9%b4%e5%9b%a2%e5%a5%91-2/
END:VEVENT
BEGIN:VEVENT
DTSTART;TZID=Australia/Melbourne:20180211T123000
DTEND;TZID=Australia/Melbourne:20180211T130000
DTSTAMP:20180225T071526
CREATED:20180104T013006Z
LAST-MODIFIED:20180104T013006Z
UID:1502-1518352200-1518354000@northcotebaptist.net.au
SUMMARY:麦子青年团契
DESCRIPTION:祷告会 \n
URL:http://northcotebaptist.net.au/event/%e9%ba%a6%e5%ad%90%e9%9d%92%e5%b9%b4%e5%9b%a2%e5%a5%91-5/
END:VEVENT
BEGIN:VEVENT
DTSTART;TZID=Australia/Melbourne:20180214T103000
DTEND;TZID=Australia/Melbourne:20180214T120000
DTSTAMP:20180225T071526
CREATED:20180104T012510Z
LAST-MODIFIED:20180105T003513Z
UID:1500-1518604200-1518609600@northcotebaptist.net.au
SUMMARY:Mainly Music
DESCRIPTION:
URL:http://northcotebaptist.net.au/event/mainly-music-3/
END:VEVENT
BEGIN:VEVENT
DTSTART;TZID=Australia/Melbourne:20180216T193000
DTEND;TZID=Australia/Melbourne:20180216T210000
DTSTAMP:20180225T071526
CREATED:20180123T013337Z
LAST-MODIFIED:20180123T013337Z
UID:1603-1518809400-1518814800@northcotebaptist.net.au
SUMMARY:青少年团契
DESCRIPTION:欢迎青年朋友与少年朋友们参加！\n  \nSocial Gathering \n
URL:http://northcotebaptist.net.au/event/%e9%9d%92%e5%b0%91%e5%b9%b4%e5%9b%a2%e5%a5%91-3/
END:VEVENT
BEGIN:VEVENT
DTSTART;TZID=Australia/Melbourne:20180218T113000
DTEND;TZID=Australia/Melbourne:20180218T130000
DTSTAMP:20180225T071526
CREATED:20180104T014530Z
LAST-MODIFIED:20180104T014530Z
UID:1504-1518953400-1518958800@northcotebaptist.net.au
SUMMARY:麦子青年团契
DESCRIPTION:聚餐查经 \n
URL:http://northcotebaptist.net.au/event/%e9%ba%a6%e5%ad%90%e9%9d%92%e5%b9%b4%e5%9b%a2%e5%a5%91-6/
END:VEVENT
BEGIN:VEVENT
DTSTART;TZID=Australia/Melbourne:20180220T110000
DTEND;TZID=Australia/Melbourne:20180220T123000
DTSTAMP:20180225T071526
CREATED:20180104T020114Z
LAST-MODIFIED:20180104T020114Z
UID:1506-1519124400-1519129800@northcotebaptist.net.au
SUMMARY:姐妹团契
DESCRIPTION:
URL:http://northcotebaptist.net.au/event/%e5%a7%90%e5%a6%b9%e5%9b%a2%e5%a5%91-4/
END:VEVENT
BEGIN:VEVENT
DTSTART;TZID=Australia/Melbourne:20180221T100000
DTEND;TZID=Australia/Melbourne:20180221T113000
DTSTAMP:20180225T071526
CREATED:20180104T020205Z
LAST-MODIFIED:20180104T020205Z
UID:1508-1519207200-1519212600@northcotebaptist.net.au
SUMMARY:Mainly Music
DESCRIPTION:
URL:http://northcotebaptist.net.au/event/mainly-music-4/
END:VEVENT
BEGIN:VEVENT
DTSTART;TZID=Australia/Melbourne:20180223T193000
DTEND;TZID=Australia/Melbourne:20180223T210000
DTSTAMP:20180225T071526
CREATED:20180104T020317Z
LAST-MODIFIED:20180104T020317Z
UID:1510-1519414200-1519419600@northcotebaptist.net.au
SUMMARY:同工团契
DESCRIPTION:
URL:http://northcotebaptist.net.au/event/%e5%90%8c%e5%b7%a5%e5%9b%a2%e5%a5%91/
END:VEVENT
BEGIN:VEVENT
DTSTART;TZID=Australia/Melbourne:20180225T113000
DTEND;TZID=Australia/Melbourne:20180225T120000
DTSTAMP:20180225T071526
CREATED:20180104T020436Z
LAST-MODIFIED:20180104T020436Z
UID:1512-1519558200-1519560000@northcotebaptist.net.au
SUMMARY:麦子青年团契
DESCRIPTION:祷告会 \n
URL:http://northcotebaptist.net.au/event/%e9%ba%a6%e5%ad%90%e9%9d%92%e5%b9%b4%e5%9b%a2%e5%a5%91-7/
END:VEVENT
BEGIN:VEVENT
DTSTART;TZID=Australia/Melbourne:20180228T103000
DTEND;TZID=Australia/Melbourne:20180228T120000
DTSTAMP:20180225T071526
CREATED:20180104T020547Z
LAST-MODIFIED:20180105T003536Z
UID:1514-1519813800-1519819200@northcotebaptist.net.au
SUMMARY:Mainly Music
DESCRIPTION:
URL:http://northcotebaptist.net.au/event/mainly-music-5/
END:VEVENT
BEGIN:VEVENT
DTSTART;TZID=Australia/Melbourne:20180302T193000
DTEND;TZID=Australia/Melbourne:20180302T210000
DTSTAMP:20180225T071526
CREATED:20180123T013947Z
LAST-MODIFIED:20180123T013947Z
UID:1605-1520019000-1520024400@northcotebaptist.net.au
SUMMARY:青少年团契
DESCRIPTION:欢迎青年朋友与少年朋友们参加！\n  \nGames+Study \n
URL:http://northcotebaptist.net.au/event/%e9%9d%92%e5%b0%91%e5%b9%b4%e5%9b%a2%e5%a5%91-4/
END:VEVENT
END:VCALENDAR